BEGIN:VCALENDAR
VERSION:2.0
PRODID:-//eventon.com NONSGML v1.0//EN
CALSCALE:GREGORIAN
METHOD:PUBLISH
BEGIN:VEVENT
UID:69eb168305b12
DTSTAMP:20260424T070643Z
DTSTART:20230703
DTEND:20230704
LOCATION:
SUMMARY:CST en formation plénière juillet
DESCRIPTION:CST en formation plénière juillet\nhttps://www.cftcmetropoled
 elyon.fr/events/cst-en-formation-pleniere-2/
URL:https://www.cftcmetropoledelyon.fr/events/cst-en-formation-pleniere-2/
END:VEVENT
END:VCALENDAR