BEGIN:VCALENDAR
VERSION:2.0
PRODID:-//eventon.com NONSGML v1.0//EN
CALSCALE:GREGORIAN
METHOD:PUBLISH
BEGIN:VEVENT
UID:69eb162dd0858
DTSTAMP:20260424T070517Z
DTSTART:20231005
DTEND:20231006
LOCATION:
SUMMARY:CST - Comité social territorial
DESCRIPTION:CST - Comité social territorial\nhttps://www.cftcmetropoledely
 on.fr/events/cst-en-formation-pleniere-octobre/
URL:https://www.cftcmetropoledelyon.fr/events/cst-en-formation-pleniere-octobre/
END:VEVENT
END:VCALENDAR