BEGIN:VCALENDAR
VERSION:2.0
PRODID:-//eventon.com NONSGML v1.0//EN
CALSCALE:GREGORIAN
METHOD:PUBLISH
BEGIN:VEVENT
UID:69eb16153750a
DTSTAMP:20260424T070453Z
DTSTART:20230704T130000Z
DTEND:20230704T150000Z
LOCATION:
SUMMARY:GT - Groupe de travail
DESCRIPTION:GT - Groupe de travail\nhttps://www.cftcmetropoledelyon.fr/even
 ts/groupe-de-travail-colleges/
URL:https://www.cftcmetropoledelyon.fr/events/groupe-de-travail-colleges/
END:VEVENT
END:VCALENDAR