BEGIN:VCALENDAR
VERSION:2.0
PRODID:-//eventon.com NONSGML v1.0//EN
CALSCALE:GREGORIAN
METHOD:PUBLISH
BEGIN:VEVENT
UID:69eb163bd992b
DTSTAMP:20260424T070531Z
DTSTART:20230705T120000Z
DTEND:20230705T133000Z
LOCATION:
SUMMARY:Point d’information
DESCRIPTION:Point d’information\nhttps://www.cftcmetropoledelyon.fr/event
 s/point-dinformation-sur-le-projet-celp-et-laccompagnement-des-agents-du-se
 rvice/
URL:https://www.cftcmetropoledelyon.fr/events/point-dinformation-sur-le-projet-celp-et-laccompagnement-des-agents-du-service/
END:VEVENT
END:VCALENDAR