BEGIN:VCALENDAR
VERSION:2.0
PRODID:-//eventon.com NONSGML v1.0//EN
CALSCALE:GREGORIAN
METHOD:PUBLISH
BEGIN:VEVENT
UID:69eb1678c98e8
DTSTAMP:20260424T070632Z
DTSTART:20230913T120000Z
DTEND:20230913T140000Z
LOCATION:
SUMMARY:GT - Groupe de travail
DESCRIPTION:Ce groupe de travail dispose d'un lien visioconférence disponi
 ble sur le mail de la convocation.\nhttps://www.cftcmetropoledelyon.fr/even
 ts/gt-dtee-metiers-de-leau-et-des-dechets/
URL:https://www.cftcmetropoledelyon.fr/events/gt-dtee-metiers-de-leau-et-des-dechets/
END:VEVENT
END:VCALENDAR