BEGIN:VCALENDAR
VERSION:2.0
PRODID:-//eventon.com NONSGML v1.0//EN
CALSCALE:GREGORIAN
METHOD:PUBLISH
BEGIN:VEVENT
UID:69eb168471f53
DTSTAMP:20260424T070644Z
DTSTART:20230926
DTEND:20230927
LOCATION:
SUMMARY:FIME - Formation FFPT-CFTC
DESCRIPTION:FIME - Formation FFPT-CFTC\nhttps://www.cftcmetropoledelyon.fr/
 events/formation-ffpt-cftc-fime/
URL:https://www.cftcmetropoledelyon.fr/events/formation-ffpt-cftc-fime/
END:VEVENT
END:VCALENDAR