BEGIN:VCALENDAR
VERSION:2.0
PRODID:-//eventon.com NONSGML v1.0//EN
CALSCALE:GREGORIAN
METHOD:PUBLISH
BEGIN:VEVENT
UID:69eb162fa5012
DTSTAMP:20260424T070519Z
DTSTART:20230830
DTEND:20230831
LOCATION:
SUMMARY:ATPG2 - Formation syndicale FFPT - CFTC
DESCRIPTION:ATPG2 - Formation syndicale FFPT - CFTC\nhttps://www.cftcmetrop
 oledelyon.fr/events/formation-syndicale-groupe-at-proprete-g2/
URL:https://www.cftcmetropoledelyon.fr/events/formation-syndicale-groupe-at-proprete-g2/
END:VEVENT
END:VCALENDAR