BEGIN:VCALENDAR
VERSION:2.0
PRODID:-//eventon.com NONSGML v1.0//EN
CALSCALE:GREGORIAN
METHOD:PUBLISH
BEGIN:VEVENT
UID:69eb16311d29c
DTSTAMP:20260424T070521Z
DTSTART:20230831
DTEND:20230901
LOCATION:
SUMMARY:AT/AM/PG3 - Formation syndicale FFPT - CFTC
DESCRIPTION:AT/AM/PG3 - Formation syndicale FFPT - CFTC\nhttps://www.cftcme
 tropoledelyon.fr/events/formation-syndicale-groupe-at-proprete-g3/var/event
 _access
URL:https://www.cftcmetropoledelyon.fr/events/formation-syndicale-groupe-at-proprete-g3/var/event_access
END:VEVENT
END:VCALENDAR