BEGIN:VCALENDAR
VERSION:2.0
PRODID:-//eventon.com NONSGML v1.0//EN
CALSCALE:GREGORIAN
METHOD:PUBLISH
BEGIN:VEVENT
UID:69eb163151431
DTSTAMP:20260424T070521Z
DTSTART:20231006
DTEND:20231007
LOCATION:
SUMMARY:ATPG1 - FORMATION SYNDICALE FFPT - CFTC
DESCRIPTION:ATPG1 - FORMATION SYNDICALE FFPT - CFTC\nhttps://www.cftcmetrop
 oledelyon.fr/events/formation-syndicale-groupe-at-proprete-g1-06-10-2023/
URL:https://www.cftcmetropoledelyon.fr/events/formation-syndicale-groupe-at-proprete-g1-06-10-2023/
END:VEVENT
END:VCALENDAR