BEGIN:VCALENDAR
VERSION:2.0
PRODID:-//eventon.com NONSGML v1.0//EN
CALSCALE:GREGORIAN
METHOD:PUBLISH
BEGIN:VEVENT
UID:69eb162672660
DTSTAMP:20260424T070510Z
DTSTART:20231208
DTEND:20231209
LOCATION:
SUMMARY:ATPG2 - Formation syndicale FFPT - CFTC
DESCRIPTION:ATPG2 - Formation syndicale FFPT - CFTC\nhttps://www.cftcmetrop
 oledelyon.fr/events/formation-syndicale-groupe-at-proprete-g2-08-12-2023/
URL:https://www.cftcmetropoledelyon.fr/events/formation-syndicale-groupe-at-proprete-g2-08-12-2023/
END:VEVENT
END:VCALENDAR