BEGIN:VCALENDAR
VERSION:2.0
PRODID:-//eventon.com NONSGML v1.0//EN
CALSCALE:GREGORIAN
METHOD:PUBLISH
BEGIN:VEVENT
UID:69eb16231b11e
DTSTAMP:20260424T070507Z
DTSTART:20231020
DTEND:20231021
LOCATION:
SUMMARY:AT/AM/PG3 - Formation syndicale FFPT - CFTC
DESCRIPTION:AT/AM/PG3 - Formation syndicale FFPT - CFTC\nhttps://www.cftcme
 tropoledelyon.fr/events/formation-syndicale-groupe-at-am-proprete-g3-20-10-
 2023/
URL:https://www.cftcmetropoledelyon.fr/events/formation-syndicale-groupe-at-am-proprete-g3-20-10-2023/
END:VEVENT
END:VCALENDAR