BEGIN:VCALENDAR
VERSION:2.0
PRODID:-//eventon.com NONSGML v1.0//EN
CALSCALE:GREGORIAN
METHOD:PUBLISH
BEGIN:VEVENT
UID:69eb15dd1ac88
DTSTAMP:20260424T070357Z
DTSTART:20231124
DTEND:20231125
LOCATION:
SUMMARY:AT/AM/PG3 - Formation syndicale FFPT - CFTC
DESCRIPTION:AT/AM/PG3 - Formation syndicale FFPT - CFTC\nhttps://www.cftcme
 tropoledelyon.fr/events/formation-syndicale-groupe-at-am-proprete-g3-24-11-
 2023/
URL:https://www.cftcmetropoledelyon.fr/events/formation-syndicale-groupe-at-am-proprete-g3-24-11-2023/
END:VEVENT
END:VCALENDAR