BEGIN:VCALENDAR
VERSION:2.0
PRODID:-//eventon.com NONSGML v1.0//EN
CALSCALE:GREGORIAN
METHOD:PUBLISH
BEGIN:VEVENT
UID:69eb15c6ed66d
DTSTAMP:20260424T070334Z
DTSTART:20231002
DTEND:20231003
LOCATION:
SUMMARY:EVPG1 - Formation syndicale FFPT - CFTC
DESCRIPTION:EVPG1 - Formation syndicale FFPT - CFTC\nhttps://www.cftcmetrop
 oledelyon.fr/events/formation-syndicale-groupe-eau-voirie-proprete-g1-02-10
 -2023/
URL:https://www.cftcmetropoledelyon.fr/events/formation-syndicale-groupe-eau-voirie-proprete-g1-02-10-2023/
END:VEVENT
END:VCALENDAR