BEGIN:VCALENDAR
VERSION:2.0
PRODID:-//eventon.com NONSGML v1.0//EN
CALSCALE:GREGORIAN
METHOD:PUBLISH
BEGIN:VEVENT
UID:69eb1615341c8
DTSTAMP:20260424T070453Z
DTSTART:20231113
DTEND:20231114
LOCATION:
SUMMARY:EVPG1 - Formation syndicale FFTP - CFTC
DESCRIPTION:EVPG1 - Formation syndicale FFTP - CFTC\nhttps://www.cftcmetrop
 oledelyon.fr/events/formation-syndicale-groupe-eau-voirie-proprete-g1-13-11
 -2023/
URL:https://www.cftcmetropoledelyon.fr/events/formation-syndicale-groupe-eau-voirie-proprete-g1-13-11-2023/
END:VEVENT
END:VCALENDAR