BEGIN:VCALENDAR
VERSION:2.0
PRODID:-//eventon.com NONSGML v1.0//EN
CALSCALE:GREGORIAN
METHOD:PUBLISH
BEGIN:VEVENT
UID:69e51784d9d9c
DTSTAMP:20260419T175724Z
DTSTART:20231211
DTEND:20231212
LOCATION:
SUMMARY:EVPG1 - Formation syndicale FFTP - CFTC
DESCRIPTION:EVPG1 - Formation syndicale FFTP - CFTC\nhttps://www.cftcmetrop
 oledelyon.fr/events/formation-syndicale-groupe-eau-voirie-proprete-g1-11-12
 -2023/
URL:https://www.cftcmetropoledelyon.fr/events/formation-syndicale-groupe-eau-voirie-proprete-g1-11-12-2023/
END:VEVENT
END:VCALENDAR