BEGIN:VCALENDAR
VERSION:2.0
PRODID:-//eventon.com NONSGML v1.0//EN
CALSCALE:GREGORIAN
METHOD:PUBLISH
BEGIN:VEVENT
UID:69eb15de6d754
DTSTAMP:20260424T070358Z
DTSTART:20230905
DTEND:20230906
LOCATION:
SUMMARY:EVDG2 - Formation syndicale FFPT - CFTC
DESCRIPTION:EVDG2 - Formation syndicale FFPT - CFTC\nhttps://www.cftcmetrop
 oledelyon.fr/events/formation-syndicale-groupe-eau-voirie-dpmg-g2-05-09-202
 3/
URL:https://www.cftcmetropoledelyon.fr/events/formation-syndicale-groupe-eau-voirie-dpmg-g2-05-09-2023/
END:VEVENT
END:VCALENDAR