BEGIN:VCALENDAR
VERSION:2.0
PRODID:-//eventon.com NONSGML v1.0//EN
CALSCALE:GREGORIAN
METHOD:PUBLISH
BEGIN:VEVENT
UID:69eb1a69aa03d
DTSTAMP:20260424T072321Z
DTSTART:20231212
DTEND:20231213
LOCATION:
SUMMARY:EVD-G2 - Formation syndicale FFPT - CFTC
DESCRIPTION:EVD-G2 - Formation syndicale FFPT - CFTC\nhttps://www.cftcmetro
 poledelyon.fr/events/formation-syndicale-groupe-eau-voirie-dpmg-g2-12-12-20
 23/
URL:https://www.cftcmetropoledelyon.fr/events/formation-syndicale-groupe-eau-voirie-dpmg-g2-12-12-2023/
END:VEVENT
END:VCALENDAR