BEGIN:VCALENDAR
VERSION:2.0
PRODID:-//eventon.com NONSGML v1.0//EN
CALSCALE:GREGORIAN
METHOD:PUBLISH
BEGIN:VEVENT
UID:69eb1587cd7a1
DTSTAMP:20260424T070231Z
DTSTART:20231004
DTEND:20231005
LOCATION:
SUMMARY:EDCUG3 - Formation syndicale FFPT - CFTC
DESCRIPTION:EDCUG3 - Formation syndicale FFPT - CFTC\nhttps://www.cftcmetro
 poledelyon.fr/events/formation-syndicale-groupe-eau-dpmg-col-ulvi-g3-04-10-
 2023/
URL:https://www.cftcmetropoledelyon.fr/events/formation-syndicale-groupe-eau-dpmg-col-ulvi-g3-04-10-2023/
END:VEVENT
END:VCALENDAR