BEGIN:VCALENDAR
VERSION:2.0
PRODID:-//eventon.com NONSGML v1.0//EN
CALSCALE:GREGORIAN
METHOD:PUBLISH
BEGIN:VEVENT
UID:69eb161754c3d
DTSTAMP:20260424T070455Z
DTSTART:20231115
DTEND:20231116
LOCATION:
SUMMARY:EDCUG3 - Formation syndicale FFPT - CFTC
DESCRIPTION:EDCUG3 - Formation syndicale FFPT - CFTC\nhttps://www.cftcmetro
 poledelyon.fr/events/formation-syndicale-groupe-eau-dpmg-col-ulvi-g3-copy-1
 5-11-2023/
URL:https://www.cftcmetropoledelyon.fr/events/formation-syndicale-groupe-eau-dpmg-col-ulvi-g3-copy-15-11-2023/
END:VEVENT
END:VCALENDAR