BEGIN:VCALENDAR
VERSION:2.0
PRODID:-//eventon.com NONSGML v1.0//EN
CALSCALE:GREGORIAN
METHOD:PUBLISH
BEGIN:VEVENT
UID:69eb162358be2
DTSTAMP:20260424T070507Z
DTSTART:20230907T080000Z
DTEND:20230907T100000Z
LOCATION:
SUMMARY:RIS CELP - Réunion d'information syndicale
DESCRIPTION:RIS CELP - Réunion d'information syndicale\nhttps://www.cftcme
 tropoledelyon.fr/events/ris-reunion-dinformation-syndicale-celp/
URL:https://www.cftcmetropoledelyon.fr/events/ris-reunion-dinformation-syndicale-celp/
END:VEVENT
END:VCALENDAR