BEGIN:VCALENDAR
VERSION:2.0
PRODID:-//eventon.com NONSGML v1.0//EN
CALSCALE:GREGORIAN
METHOD:PUBLISH
BEGIN:VEVENT
UID:69eb163c1a34a
DTSTAMP:20260424T070532Z
DTSTART:20230907T050000Z
DTEND:20230907T070000Z
LOCATION:
SUMMARY:RIS VTPO PB - Réunion d'information syndicale
DESCRIPTION:RIS VTPO PB - Réunion d'information syndicale\nhttps://www.cft
 cmetropoledelyon.fr/events/ris-reunion-dinformation-syndicale-vtpo-pierre-b
 enite/
URL:https://www.cftcmetropoledelyon.fr/events/ris-reunion-dinformation-syndicale-vtpo-pierre-benite/
END:VEVENT
END:VCALENDAR