BEGIN:VCALENDAR
VERSION:2.0
PRODID:-//eventon.com NONSGML v1.0//EN
CALSCALE:GREGORIAN
METHOD:PUBLISH
BEGIN:VEVENT
UID:69eb15850be9e
DTSTAMP:20260424T070229Z
DTSTART:20230904T050000Z
DTEND:20230904T070000Z
LOCATION:
SUMMARY:RIS vtpe l - Réunion d'information syndicale
DESCRIPTION:RIS vtpe l - Réunion d'information syndicale\nhttps://www.cftc
 metropoledelyon.fr/events/ris-reunion-dinformation-syndicale-vtpe-leo-lagra
 nge/
URL:https://www.cftcmetropoledelyon.fr/events/ris-reunion-dinformation-syndicale-vtpe-leo-lagrange/
END:VEVENT
END:VCALENDAR