BEGIN:VCALENDAR
VERSION:2.0
PRODID:-//eventon.com NONSGML v1.0//EN
CALSCALE:GREGORIAN
METHOD:PUBLISH
BEGIN:VEVENT
UID:69eb15c42c521
DTSTAMP:20260424T070332Z
DTSTART:20230901T050000Z
DTEND:20230901T070000Z
LOCATION:
SUMMARY:RIS vtpe s - Réunion d'information syndicale
DESCRIPTION:RIS vtpe s - Réunion d'information syndicale\nhttps://www.cftc
 metropoledelyon.fr/events/ris-reunion-dinformation-syndicale-vtpe-bron-sole
 smes-01-09-2023/
URL:https://www.cftcmetropoledelyon.fr/events/ris-reunion-dinformation-syndicale-vtpe-bron-solesmes-01-09-2023/
END:VEVENT
END:VCALENDAR