BEGIN:VCALENDAR
VERSION:2.0
PRODID:-//eventon.com NONSGML v1.0//EN
CALSCALE:GREGORIAN
METHOD:PUBLISH
BEGIN:VEVENT
UID:69eb15c430904
DTSTAMP:20260424T070332Z
DTSTART:20231116
DTEND:20231117
LOCATION:
SUMMARY:CST - Comité social territorial
DESCRIPTION:CST - Comité social territorial\nhttps://www.cftcmetropoledely
 on.fr/events/cst-en-formation-pleniere-novembre-previsionnel/
URL:https://www.cftcmetropoledelyon.fr/events/cst-en-formation-pleniere-novembre-previsionnel/
END:VEVENT
END:VCALENDAR