BEGIN:VCALENDAR
VERSION:2.0
PRODID:-//eventon.com NONSGML v1.0//EN
CALSCALE:GREGORIAN
METHOD:PUBLISH
BEGIN:VEVENT
UID:69eb15df24f79
DTSTAMP:20260424T070359Z
DTSTART:20231207
DTEND:20231208
LOCATION:
SUMMARY:CST - Comité social territorial
DESCRIPTION:CST - Comité social territorial\nhttps://www.cftcmetropoledely
 on.fr/events/cst-en-formation-pleniere-decembre-previsionnel-07-12-2023/
URL:https://www.cftcmetropoledelyon.fr/events/cst-en-formation-pleniere-decembre-previsionnel-07-12-2023/
END:VEVENT
END:VCALENDAR