BEGIN:VCALENDAR
VERSION:2.0
PRODID:-//eventon.com NONSGML v1.0//EN
CALSCALE:GREGORIAN
METHOD:PUBLISH
BEGIN:VEVENT
UID:69eb1619242c7
DTSTAMP:20260424T070457Z
DTSTART:20231027
DTEND:20231028
LOCATION:
SUMMARY:Réunion du conseil syndical
DESCRIPTION:Le nom de la salle vous sera transmise le jours précédent la 
 réunion.\nhttps://www.cftcmetropoledelyon.fr/events/reunion-du-conseil-syn
 dical-2/
URL:https://www.cftcmetropoledelyon.fr/events/reunion-du-conseil-syndical-2/
END:VEVENT
END:VCALENDAR