BEGIN:VCALENDAR
VERSION:2.0
PRODID:-//eventon.com NONSGML v1.0//EN
CALSCALE:GREGORIAN
METHOD:PUBLISH
BEGIN:VEVENT
UID:69eb15c42cc93
DTSTAMP:20260424T070332Z
DTSTART:20231117
DTEND:20231118
LOCATION:
SUMMARY:Réunion du conseil syndical
DESCRIPTION:Le nom de la salle vous sera transmise le jours précédent la 
 réunion.\nhttps://www.cftcmetropoledelyon.fr/events/reunion-du-conseil-syn
 dical-copy/
URL:https://www.cftcmetropoledelyon.fr/events/reunion-du-conseil-syndical-copy/
END:VEVENT
END:VCALENDAR