BEGIN:VCALENDAR
VERSION:2.0
PRODID:-//eventon.com NONSGML v1.0//EN
CALSCALE:GREGORIAN
METHOD:PUBLISH
BEGIN:VEVENT
UID:69eb15dd26beb
DTSTAMP:20260424T070357Z
DTSTART:20231215
DTEND:20231216
LOCATION:
SUMMARY:Réunion du conseil syndical
DESCRIPTION:Le nom de la salle vous sera transmise le jours précédent la 
 réunion.\nhttps://www.cftcmetropoledelyon.fr/events/reunion-du-conseil-syn
 dical-3/
URL:https://www.cftcmetropoledelyon.fr/events/reunion-du-conseil-syndical-3/
END:VEVENT
END:VCALENDAR