BEGIN:VCALENDAR
VERSION:2.0
PRODID:-//eventon.com NONSGML v1.0//EN
CALSCALE:GREGORIAN
METHOD:PUBLISH
BEGIN:VEVENT
UID:69eb16787986c
DTSTAMP:20260424T070632Z
DTSTART:20230904T070000Z
DTEND:20230904T080000Z
LOCATION:
SUMMARY:COS Commission des affaires sociales
DESCRIPTION:COS Commission des affaires sociales\nhttps://www.cftcmetropole
 delyon.fr/events/cos-commission-des-affaires-sociales/
URL:https://www.cftcmetropoledelyon.fr/events/cos-commission-des-affaires-sociales/
END:VEVENT
END:VCALENDAR