BEGIN:VCALENDAR
VERSION:2.0
PRODID:-//eventon.com NONSGML v1.0//EN
CALSCALE:GREGORIAN
METHOD:PUBLISH
BEGIN:VEVENT
UID:69eb1619a05dc
DTSTAMP:20260424T070457Z
DTSTART:20230911T064500Z
DTEND:20230911T140000Z
LOCATION:
SUMMARY:Formation Spécialisée
DESCRIPTION:Formation Spécialisée\nhttps://www.cftcmetropoledelyon.fr/eve
 nts/formation-specialisee/
URL:https://www.cftcmetropoledelyon.fr/events/formation-specialisee/
END:VEVENT
END:VCALENDAR