BEGIN:VCALENDAR
VERSION:2.0
PRODID:-//eventon.com NONSGML v1.0//EN
CALSCALE:GREGORIAN
METHOD:PUBLISH
BEGIN:VEVENT
UID:69eb16788406c
DTSTAMP:20260424T070632Z
DTSTART:20230906T120000Z
DTEND:20230906T140000Z
LOCATION:
SUMMARY:GT DTEE - Métiers de l'eau et des déchets
DESCRIPTION:Groupe de Travail Métiers de l'eau et des déchets\nhttps://ww
 w.cftcmetropoledelyon.fr/events/gt-dtee-metiers-de-leau-et-des-dechets-2/
URL:https://www.cftcmetropoledelyon.fr/events/gt-dtee-metiers-de-leau-et-des-dechets-2/
END:VEVENT
END:VCALENDAR