BEGIN:VCALENDAR
VERSION:2.0
PRODID:-//eventon.com NONSGML v1.0//EN
CALSCALE:GREGORIAN
METHOD:PUBLISH
BEGIN:VEVENT
UID:69eb15c84fe2b
DTSTAMP:20260424T070336Z
DTSTART:20230922T070000Z
DTEND:20230922T083000Z
LOCATION:
SUMMARY:Point d’information
DESCRIPTION:Point d’information\nhttps://www.cftcmetropoledelyon.fr/event
 s/point-dinformation/
URL:https://www.cftcmetropoledelyon.fr/events/point-dinformation/
END:VEVENT
END:VCALENDAR