BEGIN:VCALENDAR
VERSION:2.0
PRODID:-//eventon.com NONSGML v1.0//EN
CALSCALE:GREGORIAN
METHOD:PUBLISH
BEGIN:VEVENT
UID:69eb16172b474
DTSTAMP:20260424T070455Z
DTSTART:20231025T070000Z
DTEND:20231025T090000Z
LOCATION:
SUMMARY:DRHMG - Relations sociales Avancement de grades
DESCRIPTION:DRHMG - Relations sociales Avancement de grades\nhttps://www.cf
 tcmetropoledelyon.fr/events/drhmg-relations-sociales-avancement-de-grades/
URL:https://www.cftcmetropoledelyon.fr/events/drhmg-relations-sociales-avancement-de-grades/
END:VEVENT
END:VCALENDAR