BEGIN:VCALENDAR
VERSION:2.0
PRODID:-//eventon.com NONSGML v1.0//EN
CALSCALE:GREGORIAN
METHOD:PUBLISH
BEGIN:VEVENT
UID:69eb1639b1b09
DTSTAMP:20260424T070529Z
DTSTART:20231218T080000Z
DTEND:20231218T094500Z
LOCATION:
SUMMARY:Réunion d'information Stratégie patrimoniale Métropolitaine
DESCRIPTION:Réunion d'information Stratégie patrimoniale Métropolitaine\
 nhttps://www.cftcmetropoledelyon.fr/events/reunion-dinformation-strategie-p
 atrimoniale-metropolitaine/
URL:https://www.cftcmetropoledelyon.fr/events/reunion-dinformation-strategie-patrimoniale-metropolitaine/
END:VEVENT
END:VCALENDAR