BEGIN:VCALENDAR
VERSION:2.0
PRODID:-//eventon.com NONSGML v1.0//EN
CALSCALE:GREGORIAN
METHOD:PUBLISH
BEGIN:VEVENT
UID:69eb15dfc211f
DTSTAMP:20260424T070359Z
DTSTART:20240510
DTEND:20240511
LOCATION:
SUMMARY:Formation CFTC groupe G1
DESCRIPTION:Formation CFTC groupe G1\nhttps://www.cftcmetropoledelyon.fr/ev
 ents/formation-cftc-groupe-g1-4/var/event_access
URL:https://www.cftcmetropoledelyon.fr/events/formation-cftc-groupe-g1-4/var/event_access
END:VEVENT
END:VCALENDAR