BEGIN:VCALENDAR
VERSION:2.0
PRODID:-//eventon.com NONSGML v1.0//EN
CALSCALE:GREGORIAN
METHOD:PUBLISH
BEGIN:VEVENT
UID:69e88443b2ea0
DTSTAMP:20260422T081811Z
DTSTART:20240112
DTEND:20240113
LOCATION:
SUMMARY:Formation CFTC groupe G2
DESCRIPTION:Formation CFTC groupe G2\nhttps://www.cftcmetropoledelyon.fr/ev
 ents/formation-cftc-groupe-g2/var/event_access
URL:https://www.cftcmetropoledelyon.fr/events/formation-cftc-groupe-g2/var/event_access
END:VEVENT
END:VCALENDAR