BEGIN:VCALENDAR
VERSION:2.0
PRODID:-//eventon.com NONSGML v1.0//EN
CALSCALE:GREGORIAN
METHOD:PUBLISH
BEGIN:VEVENT
UID:69eb1618a0999
DTSTAMP:20260424T070456Z
DTSTART:20240704
DTEND:20240705
LOCATION:
SUMMARY:Formation CFTC groupe G2
DESCRIPTION:Formation CFTC groupe G2\nhttps://www.cftcmetropoledelyon.fr/ev
 ents/formation-cftc-groupe-g2-7/var/event_access
URL:https://www.cftcmetropoledelyon.fr/events/formation-cftc-groupe-g2-7/var/event_access
END:VEVENT
END:VCALENDAR