BEGIN:VCALENDAR
VERSION:2.0
PRODID:-//eventon.com NONSGML v1.0//EN
CALSCALE:GREGORIAN
METHOD:PUBLISH
BEGIN:VEVENT
UID:69eb167831ff8
DTSTAMP:20260424T070632Z
DTSTART:20241129
DTEND:20241130
LOCATION:
SUMMARY:Formation CFTC groupe G3
DESCRIPTION:Formation CFTC groupe G3\nhttps://www.cftcmetropoledelyon.fr/ev
 ents/formation-cftc-groupe-g3-11/var/event_access
URL:https://www.cftcmetropoledelyon.fr/events/formation-cftc-groupe-g3-11/var/event_access
END:VEVENT
END:VCALENDAR