BEGIN:VCALENDAR
VERSION:2.0
PRODID:-//eventon.com NONSGML v1.0//EN
CALSCALE:GREGORIAN
METHOD:PUBLISH
BEGIN:VEVENT
UID:69eb15b524578
DTSTAMP:20260424T070317Z
DTSTART:20241209
DTEND:20241210
LOCATION:
SUMMARY:Formation CFTC groupe Eau G1
DESCRIPTION:Formation CFTC groupe Eau G1\nhttps://www.cftcmetropoledelyon.f
 r/events/formation-cftc-groupe-eau-g1-11/var/event_access
URL:https://www.cftcmetropoledelyon.fr/events/formation-cftc-groupe-eau-g1-11/var/event_access
END:VEVENT
END:VCALENDAR