BEGIN:VCALENDAR
VERSION:2.0
PRODID:-//eventon.com NONSGML v1.0//EN
CALSCALE:GREGORIAN
METHOD:PUBLISH
BEGIN:VEVENT
UID:69eb1678832a7
DTSTAMP:20260424T070632Z
DTSTART:20240305
DTEND:20240306
LOCATION:
SUMMARY:Formation CFTC groupe Eau G2
DESCRIPTION:Formation CFTC groupe Eau G2\nhttps://www.cftcmetropoledelyon.f
 r/events/formation-cftc-groupe-eau-g2-3/var/event_access
URL:https://www.cftcmetropoledelyon.fr/events/formation-cftc-groupe-eau-g2-3/var/event_access
END:VEVENT
END:VCALENDAR