BEGIN:VCALENDAR
VERSION:2.0
PRODID:-//eventon.com NONSGML v1.0//EN
CALSCALE:GREGORIAN
METHOD:PUBLISH
BEGIN:VEVENT
UID:69eb162d95004
DTSTAMP:20260424T070517Z
DTSTART:20241210
DTEND:20241211
LOCATION:
SUMMARY:Formation CFTC groupe Eau G2
DESCRIPTION:Formation CFTC groupe Eau G2\nhttps://www.cftcmetropoledelyon.f
 r/events/formation-cftc-groupe-eau-g2-12/var/event_access
URL:https://www.cftcmetropoledelyon.fr/events/formation-cftc-groupe-eau-g2-12/var/event_access
END:VEVENT
END:VCALENDAR