BEGIN:VCALENDAR
VERSION:2.0
PRODID:-//eventon.com NONSGML v1.0//EN
CALSCALE:GREGORIAN
METHOD:PUBLISH
BEGIN:VEVENT
UID:69eb15e086e11
DTSTAMP:20260424T070400Z
DTSTART:20241127
DTEND:20241128
LOCATION:
SUMMARY:Formation CFTC groupe Eau G3
DESCRIPTION:Formation CFTC groupe Eau G3\nhttps://www.cftcmetropoledelyon.f
 r/events/formation-cftc-groupe-eau-g3-11/var/event_access
URL:https://www.cftcmetropoledelyon.fr/events/formation-cftc-groupe-eau-g3-11/var/event_access
END:VEVENT
END:VCALENDAR