BEGIN:VCALENDAR
VERSION:2.0
PRODID:-//eventon.com NONSGML v1.0//EN
CALSCALE:GREGORIAN
METHOD:PUBLISH
BEGIN:VEVENT
UID:69eb16848360e
DTSTAMP:20260424T070644Z
DTSTART:20240209T175300Z
DTEND:20240209T175300Z
LOCATION:
SUMMARY:Conseil Syndical
DESCRIPTION:Conseil Syndical\nhttps://www.cftcmetropoledelyon.fr/events/con
 seil-syndical-2/
URL:https://www.cftcmetropoledelyon.fr/events/conseil-syndical-2/
END:VEVENT
END:VCALENDAR