BEGIN:VCALENDAR
VERSION:2.0
PRODID:-//eventon.com NONSGML v1.0//EN
CALSCALE:GREGORIAN
METHOD:PUBLISH
BEGIN:VEVENT
UID:69eb162342862
DTSTAMP:20260424T070507Z
DTSTART:20240322T175300Z
DTEND:20240322T175300Z
LOCATION:
SUMMARY:Conseil Syndical
DESCRIPTION:Conseil Syndical\nhttps://www.cftcmetropoledelyon.fr/events/con
 seil-syndical-3/
URL:https://www.cftcmetropoledelyon.fr/events/conseil-syndical-3/
END:VEVENT
END:VCALENDAR