BEGIN:VCALENDAR
VERSION:2.0
PRODID:-//eventon.com NONSGML v1.0//EN
CALSCALE:GREGORIAN
METHOD:PUBLISH
BEGIN:VEVENT
UID:69eb15dd28ab8
DTSTAMP:20260424T070357Z
DTSTART:20240517T165300Z
DTEND:20240517T165300Z
LOCATION:
SUMMARY:Conseil Syndical
DESCRIPTION:Conseil Syndical\nhttps://www.cftcmetropoledelyon.fr/events/con
 seil-syndical-5/
URL:https://www.cftcmetropoledelyon.fr/events/conseil-syndical-5/
END:VEVENT
END:VCALENDAR