BEGIN:VCALENDAR
VERSION:2.0
PRODID:-//eventon.com NONSGML v1.0//EN
CALSCALE:GREGORIAN
METHOD:PUBLISH
BEGIN:VEVENT
UID:69eb162708797
DTSTAMP:20260424T070511Z
DTSTART:20240614T165300Z
DTEND:20240614T165300Z
LOCATION:
SUMMARY:Assemblées Ordinaire et Extraordinaire
DESCRIPTION:Assemblées Ordinaire et Extraordinaire\nhttps://www.cftcmetrop
 oledelyon.fr/events/assemblees-06-2024/
URL:https://www.cftcmetropoledelyon.fr/events/assemblees-06-2024/
END:VEVENT
END:VCALENDAR