BEGIN:VCALENDAR
VERSION:2.0
PRODID:-//eventon.com NONSGML v1.0//EN
CALSCALE:GREGORIAN
METHOD:PUBLISH
BEGIN:VEVENT
UID:69eb1628274df
DTSTAMP:20260424T070512Z
DTSTART:20240920T165300Z
DTEND:20240920T165300Z
LOCATION:
SUMMARY:Conseil Syndical
DESCRIPTION:Conseil Syndical\nhttps://www.cftcmetropoledelyon.fr/events/con
 seil-syndical-7/
URL:https://www.cftcmetropoledelyon.fr/events/conseil-syndical-7/
END:VEVENT
END:VCALENDAR