BEGIN:VCALENDAR
VERSION:2.0
PRODID:-//eventon.com NONSGML v1.0//EN
CALSCALE:GREGORIAN
METHOD:PUBLISH
BEGIN:VEVENT
UID:69eb15dd2a846
DTSTAMP:20260424T070357Z
DTSTART:20241115T175300Z
DTEND:20241115T175300Z
LOCATION:
SUMMARY:Conseil Syndical
DESCRIPTION:Conseil Syndical\nhttps://www.cftcmetropoledelyon.fr/events/con
 seil-syndical-9/
URL:https://www.cftcmetropoledelyon.fr/events/conseil-syndical-9/
END:VEVENT
END:VCALENDAR