BEGIN:VCALENDAR
VERSION:2.0
PRODID:-//eventon.com NONSGML v1.0//EN
CALSCALE:GREGORIAN
METHOD:PUBLISH
BEGIN:VEVENT
UID:69eb15c25ef5e
DTSTAMP:20260424T070330Z
DTSTART:20241213T175300Z
DTEND:20241213T175300Z
LOCATION:
SUMMARY:Conseil Syndical
DESCRIPTION:Conseil Syndical\nhttps://www.cftcmetropoledelyon.fr/events/con
 seil-syndical-10/
URL:https://www.cftcmetropoledelyon.fr/events/conseil-syndical-10/
END:VEVENT
END:VCALENDAR