BEGIN:VCALENDAR
VERSION:2.0
PRODID:-//eventon.com NONSGML v1.0//EN
CALSCALE:GREGORIAN
METHOD:PUBLISH
BEGIN:VEVENT
UID:69eb1639aaa08
DTSTAMP:20260424T070529Z
DTSTART:20240115
DTEND:20240116
LOCATION:
SUMMARY:CST - Comité Social Territorial
DESCRIPTION:CST - Comité Social Territorial\nhttps://www.cftcmetropoledely
 on.fr/events/cst-comite-social-territorial/
URL:https://www.cftcmetropoledelyon.fr/events/cst-comite-social-territorial/
END:VEVENT
END:VCALENDAR